BEGIN:VCALENDAR
VERSION:2.0
PRODID:-//Juvenile Corrections - ECPv5.7.0//NONSGML v1.0//EN
CALSCALE:GREGORIAN
METHOD:PUBLISH
X-WR-CALNAME:Juvenile Corrections
X-ORIGINAL-URL:https://www.idjc.idaho.gov
X-WR-CALDESC:Events for Juvenile Corrections
BEGIN:VTIMEZONE
TZID:UTC
BEGIN:STANDARD
TZOFFSETFROM:+0000
TZOFFSETTO:+0000
TZNAME:UTC
DTSTART:20210101T000000
END:STANDARD
END:VTIMEZONE
BEGIN:VEVENT
DTSTART;TZID=UTC:20210312T133000
DTEND;TZID=UTC:20210312T153000
DTSTAMP:20210607T074818
CREATED:20210303T181022Z
LAST-MODIFIED:20210310T182458Z
UID:3831-1615555800-1615563000@www.idjc.idaho.gov
SUMMARY:D4 Juvenile Justice Council Meeting
DESCRIPTION:AMENDED PUBLIC MEETING NOTICE \nAmended D4 JJC PMN 03.12.2021 \nD4 JJC PMN 03.12.2021 \nPursuant to Idaho Code 67-2343\, notice is hereby given of an open public meeting of the District 4 Juvenile Justice Council Meeting. \n  \nDATE OF NOTICE:                               March 3\, 2021 \n  \n  \nDATE AND TIME OF MEETING:           March 12\, 2021\, at 1:30-3:30 pm \n  \n  \nPLACE OF MEETING:                                Zoom Meeting: \nMeeting ID: 849 8943 7209 \nPasscode: 912497 \n1 669 900 9128 US (San Jose) \n  \nPERSONS ATTENDING:                      District 4 Juvenile Justice Council\n  \nPURPOSE OF MEETINGS/AGENDA:  Regular Meeting \n  \n\n\n\nAgenda\nMeeting Outcomes/Decisions Reached\nWho’s Responsible\n\n\n\n\n1.\nCall to Order\n\nChair\n\n\n2.\nIntroductions\n \nChair\n\n\n3.\nWelcome Guests\n \nChair\n\n\n4.\nGuest Speaker: Gregory Hale\nCentennial Job Corps-\nGregory Hale\n\n\n5.\nAction Item:  Approval of Meeting Minutes for February 12\, 2021\nFebruary 12\, 2021- \nDECISION:\nAll members\n\n\n6.\nAction Item:  Approval of Meeting Minutes for January 8\, 2021\nJanuary 8\, 2021- \nDECISION:\nAll members\n\n\n7.\nAction Item:  Approval of Meeting Minutes for January 10\, 2020 Minutes\nJanuary 10\, 2020- \nDECISION:\nAll members\n\n\n8.\nAction Item:  Approval of Meeting Minutes for  February 14\, 2020\nFebruary 14\, 2020- \nDECISION:\nAll members\n\n\n9.\nAction Item:  Approval of Meeting Minutes for  March 13\, 2020-\nFebruary 14\, 2020- \nDECISION:\nAll members\n\n\n10.\nAction Item:  Approval of Meeting Minutes for  April 10\, 2020-\nApril 10\, 2020- \nDECISION:\nAll members\n\n\n11.\nAction Item:  Approval of Meeting Minutes for June 12\, 2020-\nJune 12\, 2020- \nDECISION:\nAll members\n\n\n12.\nAction Item:  Approval of Meeting Minutes for  August 14\, 2020\nAugust 14\, 2020- \nDECISION:\nAll members\n\n\n13.\n  Action Item:  Approval of Meeting Minutes for  September 11\, 2020\nSeptember 11\, 2020- \nDECISION:\nAll members\n\n\n14.\nAction Item:  Approval of Meeting Minutes for  October 09\, 2020\nOctober 09\, 2020- \nDECISION:\nAll members\n\n\n15.\nAction Item: Adding Chair signature to finalize meeting minutes\nChair signature on final meeting minutes- \nDECISION:\nAll members\n\n\n16.\nCommission Update\n \nChair and/or District Liaison\n\n\n17.\nDistrict Liaison Update\n \nDistrict Liaison\n\n\n18.\nBudget\n$5\,062.76-Expenditures pending.\nDistrict Liaison\n\n\n19.\nUpdates on 3 Year Plan\nReview subcommittee breakouts: \nDSO/ De-Institutionalization of Status Offenders: DeeDee\, Alicia\, Cliff\, Robin\, Renee Cox\, & Chelsea. \nRED/ Racial Disparities: Alicia & Angie. \nP&C/ Prevention & Collaboration: DeeDee\, Michelle and Savannah\nAll Subcommittee members\n\n\n20.\nRoundtable Discussion\n \nAll in attendance\n\n\n21.\nNext meeting items\n \nAll members\n\n\n22.\nNext meeting date and time\n \nAll members\n\n\n23.\nAction Item:  Adjournment\nDECISION:\nChair\n\n\n\n 
URL:https://www.idjc.idaho.gov/event/d4-juvenile-justice-council-meeting/
END:VEVENT
BEGIN:VEVENT
DTSTART;TZID=UTC:20210318T090000
DTEND;TZID=UTC:20210318T103000
DTSTAMP:20210607T074818
CREATED:20210303T225829Z
LAST-MODIFIED:20210310T184610Z
UID:3835-1616058000-1616063400@www.idjc.idaho.gov
SUMMARY:D5 Juvenile Justice Council Meeting
DESCRIPTION:AMENDED PUBLIC MEETING NOTICE \nD5 JJC PMN 03.18.2021 \nD5 JJC AMENDED PMN 03.18.2021 \n\n\n\nAgenda\nMeeting Outcomes/Decisions Reached\nWho’s Responsible\nDue Date\n\n\n\n\n1.\nCall to Order and Introductions\n \nKorey Solomon\n \n \n\n\n2.\nACTION ITEM:  Vote to remove council member\nRemoval of Sabrina Becker from D5JJC \nDECISION:\nAll Members\n \n \n\n\n3.\nACTION ITEM:  Vote to reappoint council member\nReappointment of Wade Hyder \nDECISION:\nAll Members\n \n \n\n\n4.\nACTION ITEM:  Vote to reappoint council member\nReappointment of Linda Boguslawski \nDECISION:\nAll Members\n \n \n\n\n5.\nACTION ITEM:  Approval of Meeting Minutes for January 21\, 2021\nJanuary 21\, 2021- \nDECISION:\nAll Members\n \n \n\n\n6.\nACTION ITEM:  Budget Review and Expenditures\nFormula $4\,286.00\, expenditures of $2\,824.75 an allocation of $4\,471.00 with a remaining balance of:  $5932.25 \nDECISION:\nRenee Waite/All Members\n \n \n\n\n7.\nIDJC Liaison Update\n \nRenee Waite\n \n \n\n\n8.\nDistrict 5 Monitoring Universe 2021\nDiscussion and sharing of contact updates.\nRenee Waite/All Members\n \n \n\n\n9.\nJuvenile Justice Commission and Youth Committee Updates\n \nKorey Solomon and Renee Waite\n \n \n\n\n10.\nACTION ITEM: \n3 Year Planning (see attached)\nDECISION:\nAll Members\n \n \n\n\n11.\nMembers Reports/Discussion\nKorey Solomon: None. \nRenee Waite: None \nWade Hyder:  None \nChristine Ivie: None \nAbigail Solomon: None \nLinda Boguslawski: None \nMichelle Johnson: None \nDixie Tate: None \nCallae Marcellus: None \nCarol Johnson: None \nSabrina Becker: None\nAll Members\n \n \n\n\n12.\nSet Next Meeting\n \nAll members\n \n \n\n\n13.\nACTION ITEM: \nAdjournment\nDECISION: \n \nAll Members\n \n 
URL:https://www.idjc.idaho.gov/event/d5-juvenile-justice-council-meeting/
END:VEVENT
BEGIN:VEVENT
DTSTART;TZID=UTC:20210318T130000
DTEND;TZID=UTC:20210318T143000
DTSTAMP:20210607T074818
CREATED:20210311T213322Z
LAST-MODIFIED:20210311T213322Z
UID:3876-1616072400-1616077800@www.idjc.idaho.gov
SUMMARY:District 3 Juvenile Justice Council Meeting
DESCRIPTION:D3 JUVENILE JUSTICE COUNCIL MEETING \nMarch 18\, 2021 \n1:00 – 2:30 p.m. \nBlueJeans Video Conferencing  \nMeeting ID: 575 011 322 \n\n\n\n\n\n\n\nJoin Meeting \n\n\n\n\n(Join from computer or phone)\n\n\n\nPhone Dial-in\n+1.408.419.1715 (United States(San Jose))\n+1.408.915.6290 (United States(San Jose))\n \n\n\n\nFor additional information please contact:\nJoe Langan\n465-8443  Ext. 131\n283-6951 cell \n\n\n\nAgenda\nMeeting Outcomes/Decisions Reached\nWho’s Responsible\n\n\n\n\n1.\nCall to Order & Announcements\n \nDahlia Stender\n\n\n2.\nAction Item: Approval of Meeting Minutes 02/18/2021\n \nAll Members\n\n\n3.\nGuest Item:\n \n \n\n\n4.\nTraining Fund Recipient Updates\n \n \n\n\n5.\nGeneral Business Items:\n \nAll Members\n\n\na.\nAction Item: Budget Report\nReview of funding pots and end dates.\n \n\n\nb.\nIDJC and Liaison Update\n \nJoe Langan\n\n\nc.\nJJ Commission Update\n \nDahlia Stender\n\n\nd.\nReview of D3 Monitoring Universe 2021\n \nJoe Langan\n\n\n6.\nAction Item: Approve Restorative Justice Survey\n \nAll Members\n\n\n7.\nYouth Commission Update\n \nJamie Pennington\n\n\n8.\nAction Item: 3-Year Plan Update/Review\n \nDahlia Stender\n\n\n9.\nRoundtable Reports\n \nAll Members\n\n\n10.\nAction Item: Set Agenda and Plan Next Steps:\n \nAll Members\n\n\n11.\nAction Item: Adjournment \n \n \nAll Members\n\n\n\n 
URL:https://www.idjc.idaho.gov/event/district-3-juvenile-justice-council-meeting-7/
LOCATION:BlueJeans Video Conference
END:VEVENT
BEGIN:VEVENT
DTSTART;TZID=UTC:20210325T153000
DTEND;TZID=UTC:20210325T170000
DTSTAMP:20210607T074818
CREATED:20210319T202544Z
LAST-MODIFIED:20210319T202544Z
UID:3912-1616686200-1616691600@www.idjc.idaho.gov
SUMMARY:District 7 Juvenile Justice Council Meeting
DESCRIPTION:PUBLIC MEETING NOTICE\nPursuant to Idaho Code 67-2343\, notice is hereby given of an open public meeting of the District 7 Idaho Juvenile Justice Council. \nDATE OF NOTICE:                               March 19\, 2021 \nDATE AND TIME OF MEETING:        March 25\, 2021 at 3:30 to 5:00pm \nPLACE OF MEETING:                          Zoom Meeting \n\n                                                         Phone in number:\n\n1-877-820-7831 \nGuest pass code: 942466 \n  \n  \nPERSONS ATTENDING:                      District 7 Juvenile Justice Council\nPURPOSE OF MEETINGS/AGENDA:  Regular Meeting \nSee Agenda below \n\n\n\nCall to Order/Welcome and introductions –\n \nDarin Burrell\n\n\nWelcome new council members\n \nDarin Burrell/All members\n\n\nAction Item: \nApproval of January and February Meeting Minutes\n \nDarin Burrell\n\n\nBudget update\n \nDarin Burrell\n\n\n Action Item: \nCouncil Funding for Spanish version of JJ Handbook for Families/discussion\n \nDarin Burrell\n\n\nYouth Update/Discussion\n \nHannah/Isabelle/ \nKenadee/Peyton\n\n\nUpper Valley Child Advocacy Center update\n \nKimber Tower\n\n\nIDJC Update\n \nShane Boyle\n\n\nCouncil 3 year plan discussion\n \nAll members\n\n\nNext meeting(s) discussion\n \nAll members\n\n\nGeneral discussion/roundtable\n \nAll members\n\n\nAdjournment\n \nAll members
URL:https://www.idjc.idaho.gov/event/district-7-juvenile-justice-council-meeting-8/
END:VEVENT
END:VCALENDAR