BEGIN:VCALENDAR
VERSION:2.0
PRODID:-//Juvenile Corrections - ECPv5.8.1//NONSGML v1.0//EN
CALSCALE:GREGORIAN
METHOD:PUBLISH
X-WR-CALNAME:Juvenile Corrections
X-ORIGINAL-URL:http://www.idjc.idaho.gov
X-WR-CALDESC:Events for Juvenile Corrections
BEGIN:VTIMEZONE
TZID:UTC
BEGIN:STANDARD
TZOFFSETFROM:+0000
TZOFFSETTO:+0000
TZNAME:UTC
DTSTART:20210101T000000
END:STANDARD
END:VTIMEZONE
BEGIN:VEVENT
DTSTART;TZID=UTC:20210902T093000
DTEND;TZID=UTC:20210902T163000
DTSTAMP:20210922T041115
CREATED:20210816T170501Z
LAST-MODIFIED:20210830T132411Z
UID:4355-1630575000-1630600200@www.idjc.idaho.gov
SUMMARY:Idaho Juvenile Justice Commission
DESCRIPTION:2021 September Idaho Juvenile Justice Commission Meeting Agenda (s)\n2021 September Idaho Juvenile Justice Commission Meeting PMN \nhttps://zoom.us/j/97033753014 \nMeeting ID: 970 3375 3014\nOne tap mobile\n+12532158782\,\,97033753014# US (Tacoma)\n+13462487799\,\,97033753014# US (Houston) \nDial by your location\n        +1 253 215 8782 US (Tacoma)\n        +1 346 248 7799 US (Houston)\n        +1 669 900 6833 US (San Jose)\n        +1 301 715 8592 US (Washington DC)\n        +1 312 626 6799 US (Chicago)\n        +1 929 436 2866 US (New York)\nMeeting ID: 970 3375 3014\nFind your local number: https://zoom.us/u/ad5eKbGEff
URL:http://www.idjc.idaho.gov/event/idaho-juvenile-justice-commission/
END:VEVENT
BEGIN:VEVENT
DTSTART;TZID=UTC:20210910T133000
DTEND;TZID=UTC:20210910T153000
DTSTAMP:20210922T041115
CREATED:20210902T192447Z
LAST-MODIFIED:20210902T192447Z
UID:4470-1631280600-1631287800@www.idjc.idaho.gov
SUMMARY:District 4 Juvenile Justice Council Meeting
DESCRIPTION:PUBLIC MEETING NOTICE\nPursuant to Idaho Code 67-2343\, notice is hereby given of an open public meeting of the District 4 Juvenile Justice Council \nDATE OF NOTICE:                               September 3\, 2021 \nDATE AND TIME OF MEETING:        September 10\, 2021     1:30 p.m. – 3:30 p.m. \nPLACE OF MEETING:                          Zoom ID 849 8943 7209 \nPhone:  669-900-9128 \nPasscode 912497 \nPERSONS ATTENDING:                      Amanda Leader; DeeDee Phillips; Savannah Swisher; Robin Coley; Dawn Maglish; Angela Crawford; Rebecca Travis; Tim Howley; Mechelle Wilson \n  \nPURPOSE OF MEETINGS/AGENDA:  Regularly Scheduled Meeting \nAGENDA ITEMS: \nSee Attached D4 Public Meeting Notice September 2021
URL:http://www.idjc.idaho.gov/event/district-4-juvenile-justice-council-meeting-7/
END:VEVENT
BEGIN:VEVENT
DTSTART;TZID=UTC:20210917T090000
DTEND;TZID=UTC:20210917T170000
DTSTAMP:20210922T041115
CREATED:20210913T212332Z
LAST-MODIFIED:20210913T212521Z
UID:4481-1631869200-1631898000@www.idjc.idaho.gov
SUMMARY:Juvenile Training Council
DESCRIPTION:PUBLIC MEETING NOTICE\nThis meeting is a regular meeting of the Juvenile Training Council and is only available in person\nPursuant to Idaho Code §§ 74-201 through 74-208\, notice is hereby given of an open public meeting of the Juvenile Training Council. \nDATE OF NOTICE:              September 13\, 2021 \nDATE AND TIME OF MEETING:            September 17\, 2021 @ 9:00 a.m. \nPLACE OF MEETING:         Idaho Peace Officer Standards and Training Campus  Bldg 8\, Classroom H  700 S Stratford Dr\, Meridian ID \nPERSONS ATTENDING: Members of the Juvenile Training Council\, Ex-officio Members\, and Guests\nPURPOSE OF MEETINGS/AGENDA:  Regular Juvenile Training Council meeting to discuss Juvenile Detention Curriculum rewrite\, Council membership and other Council business \nJTC September 17 2021 Agenda
URL:http://www.idjc.idaho.gov/event/4481/
CATEGORIES:Juvenile Training Council
END:VEVENT
BEGIN:VEVENT
DTSTART;TZID=UTC:20210917T130000
DTEND;TZID=UTC:20210917T133000
DTSTAMP:20210922T041115
CREATED:20210910T213857Z
LAST-MODIFIED:20210910T213857Z
UID:4478-1631883600-1631885400@www.idjc.idaho.gov
SUMMARY:District 4 Juvenile Justice Council Special Meeting
DESCRIPTION:Pursuant to Idaho Code 67-2343\, notice is hereby given of an open public meeting of the District 4 Juvenile Justice Council \n  \n  \nDATE OF NOTICE:                               September 10\, 2021 \n  \nDATE AND TIME OF MEETING:        September 17\, 2021 \n1:00 p.m. – 1:15 p.m. \n  \nPLACE OF MEETING:                          Zoom ID 815 6096 9824 \nPhone:  669-900-9128 \nPasscode 290217 \n  \nPERSONS ATTENDING:                      Amanda Leader; DeeDee Phillips; Savannah Swisher; Robin Coley; Dawn Maglish; Angela Crawford; Rebecca Travis; Tim Howley; Mechelle Wilson \n  \nPURPOSE OF MEETINGS/AGENDA:  Special Meeting \n  \nAGENDA ITEMS: \nSee Attached.  9-17-21 D4 JJ Council Agenda
URL:http://www.idjc.idaho.gov/event/district-4-juvenile-justice-council-special-meeting/
END:VEVENT
BEGIN:VEVENT
DTSTART;TZID=UTC:20210922T120000
DTEND;TZID=UTC:20210922T133000
DTSTAMP:20210922T041115
CREATED:20210902T135106Z
LAST-MODIFIED:20210908T214907Z
UID:4465-1632312000-1632317400@www.idjc.idaho.gov
SUMMARY:District 6 Juvenile Justice Council Meeting
DESCRIPTION:PUBLIC MEETING NOTICE\nDistrict 6 Juvenile Justice Council\nPursuant to Idaho Code 67-2343\, notice is hereby given of an open public meeting of the District 6 Idaho Juvenile Justice Council. \nDATE OF NOTICE:                               September 08\, 2021 \nDATE AND TIME OF MEETING:     September 22\, 2021 at 12:00 pm to 1:30 pm \nPLACE OF MEETING:                         Zoom Meeting \nPhone in number: \nMeeting ID: 858 7275 9992 \nGuest pass code: 267127 \nPERSONS ATTENDING :District 6 Juvenile Justice Council\nPURPOSE OF MEETINGS/AGENDA:  Regular Meeting \n  \n\n\n\nCall to Order\n  \n \n\n\nAction Item: Approval of Meeting Minutes from 08/05/2021\n\n\n\nAction Item: Decide if Council Funds should be used to have copies made of the Family Handbook in Spanish print.\n  \n  \n  \n \n\n\nResumes:\nResumes for Shannon Fox and Kyle Hanson\n\n\nR/ED Data:\n\n\n\nPresentation:\nHope Conquers ACE’s\n\n\nOther Items\n\n\n\nBudget Update:\nPlease see attached budget sheet.\n\n\nDistrict Liaison Update:\n\n\n\nAction Item: New Council Chair\nVote for New Council Chair.\n\n\nAction Item: \nAdjournment\n  \nMeeting adjourned at \n \n\n\n\n  \n  \n\n  \n  \n 
URL:http://www.idjc.idaho.gov/event/district-6-juvenile-justice-council-meeting-9/
END:VEVENT
BEGIN:VEVENT
DTSTART;TZID=UTC:20210923T153000
DTEND;TZID=UTC:20210923T170000
DTSTAMP:20210922T041115
CREATED:20210920T154556Z
LAST-MODIFIED:20210920T154556Z
UID:4487-1632411000-1632416400@www.idjc.idaho.gov
SUMMARY:District 7 Juvenile Justice Council Meeting
DESCRIPTION:PUBLIC MEETING NOTICE\n  \n  \n  \nPursuant to Idaho Code 67-2343\, notice is hereby given of an open public meeting of the District 7 Idaho Juvenile Justice Council. \n  \n  \nDATE OF NOTICE:                               September 17\, 2021 \n  \n  \nDATE AND TIME OF MEETING:        September 23\, 2021   3:30 PM to 5:00 PM \nPLACE OF MEETING:                          Zoom Meeting \nMeeting ID: 879 9316 2104 \nPasscode: 963060 \n  \n  \nPERSONS ATTENDING:                      District 7 Juvenile Justice Council\n  \n  \nPURPOSE OF MEETINGS/AGENDA:  Regular Meeting \n  \nSee Agenda below \n  \n  \nNote: The order of the agenda items is subject to change. \n\n\n\nAgenda\nMeeting Outcomes/Decisions Reached\nWho’s Responsible\nDue Date\n\n\n\n\n1.\nCall to Order/Welcome and introductions –\n \nDarin Burrell\n \n\n\n2.\nAction Item: \nApproval of August Meeting Minutes\n \nDarin Burrell\n \n\n\n3.\nBudget update\n \nDarin Burrell\n \n\n\n4.\nAction Item: Request for Funding – \nHandbook for Families – (attached)\n \nDarin Burrell\n \n\n\n5.\nIJJA Conference report\n \nAll members\n \n\n\n6.\nYouth Update/Discussion\n \nHannah/Isabelle/ \nKenadee/Peyton\n \n\n\n7.\nUpper Valley Child Advocacy Center update\n \nKimber Tower\n \n\n\n8.\nIDJC Update\n \nShane Boyle\n \n\n\n9.\nCouncil 3 year plan discussion – discuss workgroup meeting\n \nAll members\n \n\n\n10.\nNext meeting(s) discussion\n \nAll members\n \n\n\n11.\nAdjournment\n \nAll members\n 
URL:http://www.idjc.idaho.gov/event/district-7-juvenile-justice-council-meeting-11/
END:VEVENT
END:VCALENDAR