BEGIN:VCALENDAR
VERSION:2.0
PRODID:-//Juvenile Corrections - ECPv5.8.1//NONSGML v1.0//EN
CALSCALE:GREGORIAN
METHOD:PUBLISH
X-WR-CALNAME:Juvenile Corrections
X-ORIGINAL-URL:http://www.idjc.idaho.gov
X-WR-CALDESC:Events for Juvenile Corrections
BEGIN:VTIMEZONE
TZID:UTC
BEGIN:STANDARD
TZOFFSETFROM:+0000
TZOFFSETTO:+0000
TZNAME:UTC
DTSTART:20210101T000000
END:STANDARD
END:VTIMEZONE
BEGIN:VEVENT
DTSTART;TZID=UTC:20211028T130000
DTEND;TZID=UTC:20211028T143000
DTSTAMP:20210922T040728
CREATED:20210506T210322Z
LAST-MODIFIED:20210506T210322Z
UID:4066-1635426000-1635431400@www.idjc.idaho.gov
SUMMARY:Juvenile Corrections Board meeting
DESCRIPTION:Pursuant to section 74-204\, Idaho Code\, notice is hereby given of an open public meeting of the Board of Juvenile Corrections (regularly scheduled meeting) \nLocation: Phone conference 1-408-419-1715 access code 208 465 844 3\n954 W. Jefferson St.\, Boise\, Idaho \nContact: Estela Cabrera; 208.577.5451 \nAttendees: Board members\, meeting guests
URL:http://www.idjc.idaho.gov/event/juvenile-corrections-board-meeting-3/
END:VEVENT
END:VCALENDAR