BEGIN:VCALENDAR
VERSION:2.0
PRODID:-//Juvenile Corrections - ECPv5.7.0//NONSGML v1.0//EN
CALSCALE:GREGORIAN
METHOD:PUBLISH
X-WR-CALNAME:Juvenile Corrections
X-ORIGINAL-URL:http://www.idjc.idaho.gov
X-WR-CALDESC:Events for Juvenile Corrections
BEGIN:VTIMEZONE
TZID:UTC
BEGIN:STANDARD
TZOFFSETFROM:+0000
TZOFFSETTO:+0000
TZNAME:UTC
DTSTART:20210101T000000
END:STANDARD
END:VTIMEZONE
BEGIN:VEVENT
DTSTART;TZID=UTC:20210602T100000
DTEND;TZID=UTC:20210602T110000
DTSTAMP:20210606T125327
CREATED:20210521T180313Z
LAST-MODIFIED:20210521T180313Z
UID:4092-1622628000-1622631600@www.idjc.idaho.gov
SUMMARY:Custody Review Board
DESCRIPTION:PUBLIC MEETING NOTICE\nIn accordance with Idaho Code § 67-2343\, notice is hereby given of an open public\nmeeting of the Idaho Department of Juvenile Corrections Custody Review Board. \nDATE OF NOTICE: May 21\, 2021 \nDATE AND TIME OF MEETINGS: June 2\, 2021 10:00 a.m. – 11:00 a.m. \nPLACE OF MEETINGS: Idaho Department of Juvenile Corrections – Headquarters & via BlueJeans & Phone Conferencing \nPERSONS ATTENDING: Jim Kerns\, Chair\nShaun Gann\, Member\nMarcy Chadwell\, Member\nMarc Crecelius\, Deputy Attorney General\nMonty Prow\, Director\nJames Phillips\, Juvenile Placement Manager\nCindy Orr\, Education Program Director \nPURPOSE OF MEETINGS/AGENDA: The purpose of this meeting is to discuss the juvenile’s progression through Idaho Department of Juvenile Corrections in relation to the Custody Review Board process and an overview of the education programs.
URL:http://www.idjc.idaho.gov/event/custody-review-board-5/
CATEGORIES:Custody Review Board
ORGANIZER;CN="Jenna%20Hamilton":MAILTO:jenna.hamilton@idjc.idaho.gov
END:VEVENT
END:VCALENDAR