BEGIN:VCALENDAR
VERSION:2.0
PRODID:-//Juvenile Corrections - ECPv5.8.1//NONSGML v1.0//EN
CALSCALE:GREGORIAN
METHOD:PUBLISH
X-WR-CALNAME:Juvenile Corrections
X-ORIGINAL-URL:http://www.idjc.idaho.gov
X-WR-CALDESC:Events for Juvenile Corrections
BEGIN:VTIMEZONE
TZID:UTC
BEGIN:STANDARD
TZOFFSETFROM:+0000
TZOFFSETTO:+0000
TZNAME:UTC
DTSTART:20210101T000000
END:STANDARD
END:VTIMEZONE
BEGIN:VEVENT
DTSTART;TZID=UTC:20210902T093000
DTEND;TZID=UTC:20210902T163000
DTSTAMP:20210922T041012
CREATED:20210816T170501Z
LAST-MODIFIED:20210830T132411Z
UID:4355-1630575000-1630600200@www.idjc.idaho.gov
SUMMARY:Idaho Juvenile Justice Commission
DESCRIPTION:2021 September Idaho Juvenile Justice Commission Meeting Agenda (s)\n2021 September Idaho Juvenile Justice Commission Meeting PMN \nhttps://zoom.us/j/97033753014 \nMeeting ID: 970 3375 3014\nOne tap mobile\n+12532158782\,\,97033753014# US (Tacoma)\n+13462487799\,\,97033753014# US (Houston) \nDial by your location\n        +1 253 215 8782 US (Tacoma)\n        +1 346 248 7799 US (Houston)\n        +1 669 900 6833 US (San Jose)\n        +1 301 715 8592 US (Washington DC)\n        +1 312 626 6799 US (Chicago)\n        +1 929 436 2866 US (New York)\nMeeting ID: 970 3375 3014\nFind your local number: https://zoom.us/u/ad5eKbGEff
URL:http://www.idjc.idaho.gov/event/idaho-juvenile-justice-commission/
END:VEVENT
END:VCALENDAR